BEGIN:VCALENDAR
VERSION:2.0
PRODID:-//Dishing Park City - ECPv6.15.20//NONSGML v1.0//EN
CALSCALE:GREGORIAN
METHOD:PUBLISH
X-ORIGINAL-URL:https://dishingpc.com
X-WR-CALDESC:Events for Dishing Park City
REFRESH-INTERVAL;VALUE=DURATION:PT1H
X-Robots-Tag:noindex
X-PUBLISHED-TTL:PT1H
BEGIN:VTIMEZONE
TZID:America/Denver
BEGIN:DAYLIGHT
TZOFFSETFROM:-0700
TZOFFSETTO:-0600
TZNAME:MDT
DTSTART:20250309T090000
END:DAYLIGHT
BEGIN:STANDARD
TZOFFSETFROM:-0600
TZOFFSETTO:-0700
TZNAME:MST
DTSTART:20251102T080000
END:STANDARD
BEGIN:DAYLIGHT
TZOFFSETFROM:-0700
TZOFFSETTO:-0600
TZNAME:MDT
DTSTART:20260308T090000
END:DAYLIGHT
BEGIN:STANDARD
TZOFFSETFROM:-0600
TZOFFSETTO:-0700
TZNAME:MST
DTSTART:20261101T080000
END:STANDARD
BEGIN:DAYLIGHT
TZOFFSETFROM:-0700
TZOFFSETTO:-0600
TZNAME:MDT
DTSTART:20270314T090000
END:DAYLIGHT
BEGIN:STANDARD
TZOFFSETFROM:-0600
TZOFFSETTO:-0700
TZNAME:MST
DTSTART:20271107T080000
END:STANDARD
END:VTIMEZONE
BEGIN:VEVENT
DTSTART;TZID=America/Denver:20260424T103000
DTEND;TZID=America/Denver:20260424T113000
DTSTAMP:20260424T012025
CREATED:20260406T214054Z
LAST-MODIFIED:20260406T214054Z
UID:99760-1777026600-1777030200@dishingpc.com
SUMMARY:Mozzarella Making Class/Kohler Creamery - Heber Valley Milk & Artisan Cheese
DESCRIPTION:Learn how to make your own farm fresh mozzarella\, from Heather Kohler\, wife of our farmer and cheese maker. The class includes detailed instruction\, demonstrated lecture style to audience\, with insider tips that you can easily repeat at home. \nPlan on the class lasting about two hours. \nDon’t miss out on this unique opportunity to learn how to make your own farm fresh mozzarella.
URL:https://dishingpc.com/event/mozzarella-making-class-kohler-creamery-heber-valley-milk-artisan-cheese/2026-04-24/
LOCATION:Heber Valley Artisan Milk & Cheese\, 920 River Road Midway\, Utah 84049\, Midway\, UT\, 84049\, United States
ATTACH;FMTTYPE=image/jpeg:https://dishingpc.com/wp-content/uploads/2026/04/mozzarellaclass_hebervalleycheese-500x500.webp.jpg
END:VEVENT
BEGIN:VEVENT
DTSTART;TZID=America/Denver:20260522T103000
DTEND;TZID=America/Denver:20260522T113000
DTSTAMP:20260424T012025
CREATED:20260406T214054Z
LAST-MODIFIED:20260406T214054Z
UID:99762-1779445800-1779449400@dishingpc.com
SUMMARY:Mozzarella Making Class/Kohler Creamery - Heber Valley Milk & Artisan Cheese
DESCRIPTION:Learn how to make your own farm fresh mozzarella\, from Heather Kohler\, wife of our farmer and cheese maker. The class includes detailed instruction\, demonstrated lecture style to audience\, with insider tips that you can easily repeat at home. \nPlan on the class lasting about two hours. \nDon’t miss out on this unique opportunity to learn how to make your own farm fresh mozzarella.
URL:https://dishingpc.com/event/mozzarella-making-class-kohler-creamery-heber-valley-milk-artisan-cheese/2026-05-22/
LOCATION:Heber Valley Artisan Milk & Cheese\, 920 River Road Midway\, Utah 84049\, Midway\, UT\, 84049\, United States
ATTACH;FMTTYPE=image/jpeg:https://dishingpc.com/wp-content/uploads/2026/04/mozzarellaclass_hebervalleycheese-500x500.webp.jpg
END:VEVENT
BEGIN:VEVENT
DTSTART;TZID=America/Denver:20260626T103000
DTEND;TZID=America/Denver:20260626T113000
DTSTAMP:20260424T012025
CREATED:20260406T214054Z
LAST-MODIFIED:20260406T214054Z
UID:99763-1782469800-1782473400@dishingpc.com
SUMMARY:Mozzarella Making Class/Kohler Creamery - Heber Valley Milk & Artisan Cheese
DESCRIPTION:Learn how to make your own farm fresh mozzarella\, from Heather Kohler\, wife of our farmer and cheese maker. The class includes detailed instruction\, demonstrated lecture style to audience\, with insider tips that you can easily repeat at home. \nPlan on the class lasting about two hours. \nDon’t miss out on this unique opportunity to learn how to make your own farm fresh mozzarella.
URL:https://dishingpc.com/event/mozzarella-making-class-kohler-creamery-heber-valley-milk-artisan-cheese/2026-06-26/
LOCATION:Heber Valley Artisan Milk & Cheese\, 920 River Road Midway\, Utah 84049\, Midway\, UT\, 84049\, United States
ATTACH;FMTTYPE=image/jpeg:https://dishingpc.com/wp-content/uploads/2026/04/mozzarellaclass_hebervalleycheese-500x500.webp.jpg
END:VEVENT
BEGIN:VEVENT
DTSTART;TZID=America/Denver:20260724T103000
DTEND;TZID=America/Denver:20260724T113000
DTSTAMP:20260424T012025
CREATED:20260406T214054Z
LAST-MODIFIED:20260406T214054Z
UID:99764-1784889000-1784892600@dishingpc.com
SUMMARY:Mozzarella Making Class/Kohler Creamery - Heber Valley Milk & Artisan Cheese
DESCRIPTION:Learn how to make your own farm fresh mozzarella\, from Heather Kohler\, wife of our farmer and cheese maker. The class includes detailed instruction\, demonstrated lecture style to audience\, with insider tips that you can easily repeat at home. \nPlan on the class lasting about two hours. \nDon’t miss out on this unique opportunity to learn how to make your own farm fresh mozzarella.
URL:https://dishingpc.com/event/mozzarella-making-class-kohler-creamery-heber-valley-milk-artisan-cheese/2026-07-24/
LOCATION:Heber Valley Artisan Milk & Cheese\, 920 River Road Midway\, Utah 84049\, Midway\, UT\, 84049\, United States
ATTACH;FMTTYPE=image/jpeg:https://dishingpc.com/wp-content/uploads/2026/04/mozzarellaclass_hebervalleycheese-500x500.webp.jpg
END:VEVENT
BEGIN:VEVENT
DTSTART;TZID=America/Denver:20260828T103000
DTEND;TZID=America/Denver:20260828T113000
DTSTAMP:20260424T012025
CREATED:20260406T214054Z
LAST-MODIFIED:20260406T214054Z
UID:99765-1787913000-1787916600@dishingpc.com
SUMMARY:Mozzarella Making Class/Kohler Creamery - Heber Valley Milk & Artisan Cheese
DESCRIPTION:Learn how to make your own farm fresh mozzarella\, from Heather Kohler\, wife of our farmer and cheese maker. The class includes detailed instruction\, demonstrated lecture style to audience\, with insider tips that you can easily repeat at home. \nPlan on the class lasting about two hours. \nDon’t miss out on this unique opportunity to learn how to make your own farm fresh mozzarella.
URL:https://dishingpc.com/event/mozzarella-making-class-kohler-creamery-heber-valley-milk-artisan-cheese/2026-08-28/
LOCATION:Heber Valley Artisan Milk & Cheese\, 920 River Road Midway\, Utah 84049\, Midway\, UT\, 84049\, United States
ATTACH;FMTTYPE=image/jpeg:https://dishingpc.com/wp-content/uploads/2026/04/mozzarellaclass_hebervalleycheese-500x500.webp.jpg
END:VEVENT
END:VCALENDAR